BEGIN:VCALENDAR
VERSION:2.0
PRODID:-//Alaska Trappers Association - ECPv6.15.20//NONSGML v1.0//EN
CALSCALE:GREGORIAN
METHOD:PUBLISH
X-ORIGINAL-URL:https://www.alaskatrappers.org
X-WR-CALDESC:Events for Alaska Trappers Association
REFRESH-INTERVAL;VALUE=DURATION:PT1H
X-Robots-Tag:noindex
X-PUBLISHED-TTL:PT1H
BEGIN:VTIMEZONE
TZID:America/Anchorage
BEGIN:DAYLIGHT
TZOFFSETFROM:-0900
TZOFFSETTO:-0800
TZNAME:AKDT
DTSTART:20240310T110000
END:DAYLIGHT
BEGIN:STANDARD
TZOFFSETFROM:-0800
TZOFFSETTO:-0900
TZNAME:AKST
DTSTART:20241103T100000
END:STANDARD
BEGIN:DAYLIGHT
TZOFFSETFROM:-0900
TZOFFSETTO:-0800
TZNAME:AKDT
DTSTART:20250309T110000
END:DAYLIGHT
BEGIN:STANDARD
TZOFFSETFROM:-0800
TZOFFSETTO:-0900
TZNAME:AKST
DTSTART:20251102T100000
END:STANDARD
BEGIN:DAYLIGHT
TZOFFSETFROM:-0900
TZOFFSETTO:-0800
TZNAME:AKDT
DTSTART:20260308T110000
END:DAYLIGHT
BEGIN:STANDARD
TZOFFSETFROM:-0800
TZOFFSETTO:-0900
TZNAME:AKST
DTSTART:20261101T100000
END:STANDARD
END:VTIMEZONE
BEGIN:VEVENT
DTSTART;TZID=America/Anchorage:20251016T183000
DTEND;TZID=America/Anchorage:20251016T210000
DTSTAMP:20260418T011205
CREATED:20241003T060629Z
LAST-MODIFIED:20250919T140922Z
UID:1376724-1760639400-1760648400@www.alaskatrappers.org
SUMMARY:October Wasilla Monthly Meeting
DESCRIPTION:Location of Valley meetings /workshops: Veterans of Foreign Wars (VFW)\, 301 E. Lakeview Ave.\, Wasilla\, AK 99623 \n16 October – Valley – General Meeting 630pm – 9pm /  Valley VFW \n  \n 
URL:https://www.alaskatrappers.org/event/october-matsu-valley-monthly-meeting/
LOCATION:Matsu Valley VFW\, 301 E. Lakeview Ave\, Wasilla\, AK\, 99623\, United States
CATEGORIES:Monthly Meetings
END:VEVENT
END:VCALENDAR