BEGIN:VCALENDAR
VERSION:2.0
PRODID:-//Alaska Trappers Association - ECPv6.15.20//NONSGML v1.0//EN
CALSCALE:GREGORIAN
METHOD:PUBLISH
X-WR-CALNAME:Alaska Trappers Association
X-ORIGINAL-URL:https://www.alaskatrappers.org
X-WR-CALDESC:Events for Alaska Trappers Association
REFRESH-INTERVAL;VALUE=DURATION:PT1H
X-Robots-Tag:noindex
X-PUBLISHED-TTL:PT1H
BEGIN:VTIMEZONE
TZID:America/Anchorage
BEGIN:DAYLIGHT
TZOFFSETFROM:-0900
TZOFFSETTO:-0800
TZNAME:AKDT
DTSTART:20240310T110000
END:DAYLIGHT
BEGIN:STANDARD
TZOFFSETFROM:-0800
TZOFFSETTO:-0900
TZNAME:AKST
DTSTART:20241103T100000
END:STANDARD
BEGIN:DAYLIGHT
TZOFFSETFROM:-0900
TZOFFSETTO:-0800
TZNAME:AKDT
DTSTART:20250309T110000
END:DAYLIGHT
BEGIN:STANDARD
TZOFFSETFROM:-0800
TZOFFSETTO:-0900
TZNAME:AKST
DTSTART:20251102T100000
END:STANDARD
BEGIN:DAYLIGHT
TZOFFSETFROM:-0900
TZOFFSETTO:-0800
TZNAME:AKDT
DTSTART:20260308T110000
END:DAYLIGHT
BEGIN:STANDARD
TZOFFSETFROM:-0800
TZOFFSETTO:-0900
TZNAME:AKST
DTSTART:20261101T100000
END:STANDARD
END:VTIMEZONE
BEGIN:VEVENT
DTSTART;TZID=America/Anchorage:20251018T100000
DTEND;TZID=America/Anchorage:20251019T160000
DTSTAMP:20260421T022318
CREATED:20241003T055429Z
LAST-MODIFIED:20250919T133357Z
UID:1376714-1760781600-1760889600@www.alaskatrappers.org
SUMMARY:Trap Preparations Course\, Eagle River\, Alaska Range Trapping Supply
DESCRIPTION:18 October –  Eagle River – Trap preparations– 10am –  4pm.  Alaska Range Trapping Supply 12131Horseshoe Drive\, Eagle River AK 99577 \n  \n 
URL:https://www.alaskatrappers.org/event/trap-preparations-course-eagle-river-alaska-range-trapping-supply/
LOCATION:Alaska Range Trapping Supply\, 12131Horseshoe Drive\, Eagle River\, AK\, 99577\, United States
CATEGORIES:Classes
END:VEVENT
BEGIN:VEVENT
DTSTART;TZID=America/Anchorage:20251018T120000
DTEND;TZID=America/Anchorage:20251018T170000
DTSTAMP:20260421T022318
CREATED:20241003T061437Z
LAST-MODIFIED:20250919T134043Z
UID:1376737-1760788800-1760806800@www.alaskatrappers.org
SUMMARY:Snare Making Class (Wasilla)
DESCRIPTION:18 October – Valley- Snare Making Class / 12:00 PM to 4:00 PM / Wasilla VFW \n  \nSnare Making Class / Valley VFW / 12pm – 5pm /  cost $25 per person\, instructed by John Shaubach. Participants will leave with a dozen fox snares. Class will cover snare components and basic snare set ups for a species. Components provided by Alaska Range Trapping Supply. \n  \nRegister at our website
URL:https://www.alaskatrappers.org/event/snare-making-class-matsu-valley/
LOCATION:Matsu Valley VFW\, 301 E. Lakeview Ave\, Wasilla\, AK\, 99623\, United States
CATEGORIES:Classes
END:VEVENT
END:VCALENDAR