BEGIN:VCALENDAR
VERSION:2.0
PRODID:-//Alaska Trappers Association - ECPv6.15.20//NONSGML v1.0//EN
CALSCALE:GREGORIAN
METHOD:PUBLISH
X-ORIGINAL-URL:https://www.alaskatrappers.org
X-WR-CALDESC:Events for Alaska Trappers Association
REFRESH-INTERVAL;VALUE=DURATION:PT1H
X-Robots-Tag:noindex
X-PUBLISHED-TTL:PT1H
BEGIN:VTIMEZONE
TZID:America/Anchorage
BEGIN:DAYLIGHT
TZOFFSETFROM:-0900
TZOFFSETTO:-0800
TZNAME:AKDT
DTSTART:20240310T110000
END:DAYLIGHT
BEGIN:STANDARD
TZOFFSETFROM:-0800
TZOFFSETTO:-0900
TZNAME:AKST
DTSTART:20241103T100000
END:STANDARD
BEGIN:DAYLIGHT
TZOFFSETFROM:-0900
TZOFFSETTO:-0800
TZNAME:AKDT
DTSTART:20250309T110000
END:DAYLIGHT
BEGIN:STANDARD
TZOFFSETFROM:-0800
TZOFFSETTO:-0900
TZNAME:AKST
DTSTART:20251102T100000
END:STANDARD
BEGIN:DAYLIGHT
TZOFFSETFROM:-0900
TZOFFSETTO:-0800
TZNAME:AKDT
DTSTART:20260308T110000
END:DAYLIGHT
BEGIN:STANDARD
TZOFFSETFROM:-0800
TZOFFSETTO:-0900
TZNAME:AKST
DTSTART:20261101T100000
END:STANDARD
END:VTIMEZONE
BEGIN:VEVENT
DTSTART;TZID=America/Anchorage:20251129T120000
DTEND;TZID=America/Anchorage:20251129T160000
DTSTAMP:20260422T092320
CREATED:20250919T134909Z
LAST-MODIFIED:20250919T134909Z
UID:1377054-1764417600-1764432000@www.alaskatrappers.org
SUMMARY:Fur Handling Workshop (Eagle River)
DESCRIPTION:Date & Time \n\n\nSat\, Nov 29\n12:00 PM – 4:00 PM AKDT \n\n\n\n\n\n\nLocation \n\n\n\nEagle River VFW \n10421 Vfw Rd \nEagle River\, AK 99577 \n\n\n\n\n\n\n\nDescription \n\n\n\n\nFox Lynx Coyote Fur Handling Workshop \n\nRegister at our website
URL:https://www.alaskatrappers.org/event/fur-handling-workshop-eagle-river/
LOCATION:10527 VFW Rd\, Eagle River\, AK 99577\, 10527 VFW Rd\, Eagle River\, Alaska\, 99577\, United States
END:VEVENT
END:VCALENDAR