BEGIN:VCALENDAR
VERSION:2.0
PRODID:-//Alaska Trappers Association - ECPv6.15.20//NONSGML v1.0//EN
CALSCALE:GREGORIAN
METHOD:PUBLISH
X-WR-CALNAME:Alaska Trappers Association
X-ORIGINAL-URL:https://www.alaskatrappers.org
X-WR-CALDESC:Events for Alaska Trappers Association
REFRESH-INTERVAL;VALUE=DURATION:PT1H
X-Robots-Tag:noindex
X-PUBLISHED-TTL:PT1H
BEGIN:VTIMEZONE
TZID:America/Anchorage
BEGIN:DAYLIGHT
TZOFFSETFROM:-0900
TZOFFSETTO:-0800
TZNAME:AKDT
DTSTART:20250309T110000
END:DAYLIGHT
BEGIN:STANDARD
TZOFFSETFROM:-0800
TZOFFSETTO:-0900
TZNAME:AKST
DTSTART:20251102T100000
END:STANDARD
BEGIN:DAYLIGHT
TZOFFSETFROM:-0900
TZOFFSETTO:-0800
TZNAME:AKDT
DTSTART:20260308T110000
END:DAYLIGHT
BEGIN:STANDARD
TZOFFSETFROM:-0800
TZOFFSETTO:-0900
TZNAME:AKST
DTSTART:20261101T100000
END:STANDARD
BEGIN:DAYLIGHT
TZOFFSETFROM:-0900
TZOFFSETTO:-0800
TZNAME:AKDT
DTSTART:20270314T110000
END:DAYLIGHT
BEGIN:STANDARD
TZOFFSETFROM:-0800
TZOFFSETTO:-0900
TZNAME:AKST
DTSTART:20271107T100000
END:STANDARD
END:VTIMEZONE
BEGIN:VEVENT
DTSTART;TZID=America/Anchorage:20260117T090000
DTEND;TZID=America/Anchorage:20260117T170000
DTSTAMP:20260421T020002
CREATED:20240910T013500Z
LAST-MODIFIED:20251209T211228Z
UID:1376686-1768640400-1768669200@www.alaskatrappers.org
SUMMARY:Snare Making Class (Fairbanks)
DESCRIPTION:Detailed class covering snare making and use for common Alaska furbearers. \n  \nCost $75 \nRegister here
URL:https://www.alaskatrappers.org/event/ata-snare-making-class/
LOCATION:ADFG Indoor Gun Range\, 1501 College Road\, Fairbanks\, 99701\, United States
CATEGORIES:Classes
ORGANIZER;CN="Alaska Trappers Association":MAILTO:members@alaskatrappers.org
END:VEVENT
END:VCALENDAR