BEGIN:VCALENDAR
VERSION:2.0
PRODID:-//Alaska Trappers Association - ECPv6.15.20//NONSGML v1.0//EN
CALSCALE:GREGORIAN
METHOD:PUBLISH
X-ORIGINAL-URL:https://www.alaskatrappers.org
X-WR-CALDESC:Events for Alaska Trappers Association
REFRESH-INTERVAL;VALUE=DURATION:PT1H
X-Robots-Tag:noindex
X-PUBLISHED-TTL:PT1H
BEGIN:VTIMEZONE
TZID:America/Anchorage
BEGIN:DAYLIGHT
TZOFFSETFROM:-0900
TZOFFSETTO:-0800
TZNAME:AKDT
DTSTART:20250309T110000
END:DAYLIGHT
BEGIN:STANDARD
TZOFFSETFROM:-0800
TZOFFSETTO:-0900
TZNAME:AKST
DTSTART:20251102T100000
END:STANDARD
BEGIN:DAYLIGHT
TZOFFSETFROM:-0900
TZOFFSETTO:-0800
TZNAME:AKDT
DTSTART:20260308T110000
END:DAYLIGHT
BEGIN:STANDARD
TZOFFSETFROM:-0800
TZOFFSETTO:-0900
TZNAME:AKST
DTSTART:20261101T100000
END:STANDARD
BEGIN:DAYLIGHT
TZOFFSETFROM:-0900
TZOFFSETTO:-0800
TZNAME:AKDT
DTSTART:20270314T110000
END:DAYLIGHT
BEGIN:STANDARD
TZOFFSETFROM:-0800
TZOFFSETTO:-0900
TZNAME:AKST
DTSTART:20271107T100000
END:STANDARD
END:VTIMEZONE
BEGIN:VEVENT
DTSTART;TZID=America/Anchorage:20260124T080000
DTEND;TZID=America/Anchorage:20260124T170000
DTSTAMP:20260418T011334
CREATED:20240910T013737Z
LAST-MODIFIED:20251209T211242Z
UID:1376693-1769241600-1769274000@www.alaskatrappers.org
SUMMARY:Fur Handling Class (Fairbanks)
DESCRIPTION:Class detailing all aspects of fur handling from skinning and drying to final presentation to fur buyers. Very detailed class that is sure to increase your profitability on the trapline. \nCost $75 \nRegister here
URL:https://www.alaskatrappers.org/event/ata-fur-handling-class/
LOCATION:ADFG Indoor Gun Range\, 1501 College Road\, Fairbanks\, 99701\, United States
CATEGORIES:Classes
ORGANIZER;CN="Alaska Trappers Association":MAILTO:members@alaskatrappers.org
END:VEVENT
END:VCALENDAR