BEGIN:VCALENDAR
VERSION:2.0
PRODID:-//Alaska Trappers Association - ECPv6.15.20//NONSGML v1.0//EN
CALSCALE:GREGORIAN
METHOD:PUBLISH
X-WR-CALNAME:Alaska Trappers Association
X-ORIGINAL-URL:https://www.alaskatrappers.org
X-WR-CALDESC:Events for Alaska Trappers Association
REFRESH-INTERVAL;VALUE=DURATION:PT1H
X-Robots-Tag:noindex
X-PUBLISHED-TTL:PT1H
BEGIN:VTIMEZONE
TZID:America/Anchorage
BEGIN:DAYLIGHT
TZOFFSETFROM:-0900
TZOFFSETTO:-0800
TZNAME:AKDT
DTSTART:20240310T110000
END:DAYLIGHT
BEGIN:STANDARD
TZOFFSETFROM:-0800
TZOFFSETTO:-0900
TZNAME:AKST
DTSTART:20241103T100000
END:STANDARD
BEGIN:DAYLIGHT
TZOFFSETFROM:-0900
TZOFFSETTO:-0800
TZNAME:AKDT
DTSTART:20250309T110000
END:DAYLIGHT
BEGIN:STANDARD
TZOFFSETFROM:-0800
TZOFFSETTO:-0900
TZNAME:AKST
DTSTART:20251102T100000
END:STANDARD
BEGIN:DAYLIGHT
TZOFFSETFROM:-0900
TZOFFSETTO:-0800
TZNAME:AKDT
DTSTART:20260308T110000
END:DAYLIGHT
BEGIN:STANDARD
TZOFFSETFROM:-0800
TZOFFSETTO:-0900
TZNAME:AKST
DTSTART:20261101T100000
END:STANDARD
END:VTIMEZONE
BEGIN:VEVENT
DTSTART;TZID=America/Anchorage:20251104T190000
DTEND;TZID=America/Anchorage:20251104T210000
DTSTAMP:20260421T020412
CREATED:20240317T194059Z
LAST-MODIFIED:20250919T134355Z
UID:1376444-1762282800-1762290000@www.alaskatrappers.org
SUMMARY:November Fairbanks General Membership Meeting
DESCRIPTION:Please join us for our regular monthly meeting \nA simple meal will be served at 6:30\, donations accepted. Meeting begins at 7:00 \nAll Members & Non-Members Welcome
URL:https://www.alaskatrappers.org/event/ata-monthly-general-membership-meeting-2/
LOCATION:The Dog Mushers Hall\, 925 Farmers Loop Rd\, Fairbanks\, AK\, 99712\, United States
CATEGORIES:Monthly Meetings
ATTACH;FMTTYPE=image/jpeg:https://www.alaskatrappers.org/wp-content/uploads/2023/03/ata-logo-placeholder.jpg
END:VEVENT
BEGIN:VEVENT
DTSTART;TZID=America/Anchorage:20251118T183000
DTEND;TZID=America/Anchorage:20251118T210000
DTSTAMP:20260421T020412
CREATED:20240317T212215Z
LAST-MODIFIED:20250919T134305Z
UID:1376463-1763490600-1763499600@www.alaskatrappers.org
SUMMARY:November Eagle River Membership Meeting
DESCRIPTION:18 November – Eagle River – General Meeting 630pm – 9pm /  Eagle River VFW
URL:https://www.alaskatrappers.org/event/monthly-sccata-membership-meeting-4/
LOCATION:VFW Post 9785\, 10527 VFW Road\, Eagle River\, AK\, 99577\, United States
CATEGORIES:Monthly Meetings
ATTACH;FMTTYPE=image/jpeg:https://www.alaskatrappers.org/wp-content/uploads/2023/03/ata-logo-placeholder.jpg
END:VEVENT
BEGIN:VEVENT
DTSTART;TZID=America/Anchorage:20251119T183000
DTEND;TZID=America/Anchorage:20251119T210000
DTSTAMP:20260421T020412
CREATED:20241003T161012Z
LAST-MODIFIED:20250919T134202Z
UID:1376776-1763577000-1763586000@www.alaskatrappers.org
SUMMARY:November Kenai Membership Meeting
DESCRIPTION:Next meeting of the Kenai Chapter of ATA meeting is November 19
URL:https://www.alaskatrappers.org/event/november-kenai-general-meeting/
LOCATION:Kenai Elks Club\, 44640 Parkway Ave.\, Soldotna\, AK\, 99669\, United States
CATEGORIES:Monthly Meetings
END:VEVENT
BEGIN:VEVENT
DTSTART;TZID=America/Anchorage:20251120T183000
DTEND;TZID=America/Anchorage:20251120T210000
DTSTAMP:20260421T020412
CREATED:20241003T061322Z
LAST-MODIFIED:20250919T134238Z
UID:1376735-1763663400-1763672400@www.alaskatrappers.org
SUMMARY:November Wasilla Membership Meeting
DESCRIPTION:20 November  – Valley – General Meeting from 6:30 PM – 9:00 pm  Wasilla VFW
URL:https://www.alaskatrappers.org/event/november-matsu-valley-membership-meeting/
LOCATION:Matsu Valley VFW\, 301 E. Lakeview Ave\, Wasilla\, AK\, 99623\, United States
CATEGORIES:Monthly Meetings
END:VEVENT
BEGIN:VEVENT
DTSTART;TZID=America/Anchorage:20251129T120000
DTEND;TZID=America/Anchorage:20251129T160000
DTSTAMP:20260421T020412
CREATED:20250919T134909Z
LAST-MODIFIED:20250919T134909Z
UID:1377054-1764417600-1764432000@www.alaskatrappers.org
SUMMARY:Fur Handling Workshop (Eagle River)
DESCRIPTION:Date & Time \n\n\nSat\, Nov 29\n12:00 PM – 4:00 PM AKDT \n\n\n\n\n\n\nLocation \n\n\n\nEagle River VFW \n10421 Vfw Rd \nEagle River\, AK 99577 \n\n\n\n\n\n\n\nDescription \n\n\n\n\nFox Lynx Coyote Fur Handling Workshop \n\nRegister at our website
URL:https://www.alaskatrappers.org/event/fur-handling-workshop-eagle-river/
LOCATION:10527 VFW Rd\, Eagle River\, AK 99577\, 10527 VFW Rd\, Eagle River\, Alaska\, 99577\, United States
END:VEVENT
BEGIN:VEVENT
DTSTART;TZID=America/Anchorage:20251130T120000
DTEND;TZID=America/Anchorage:20251130T160000
DTSTAMP:20260421T020412
CREATED:20250919T134732Z
LAST-MODIFIED:20250919T134732Z
UID:1377052-1764504000-1764518400@www.alaskatrappers.org
SUMMARY:Wolverine Trapping Workshop (Eagle River)
DESCRIPTION:Date & Time \n\n\nSun\, Nov 30\n12:00 PM – 4:00 PM AKDT \n\n\n\n\n\n\nLocation \n\n\n\nEagle River VFW \n10421 Vfw Rd \nEagle River\, AK 99577 \n\n\n\n\n\n\n\nDescription \n\n\n\n\nCome learn about the wolverine and basic sets that catch them! \n\nRegister at our website
URL:https://www.alaskatrappers.org/event/wolverine-trapping-workshop-eagle-river/
LOCATION:10527 VFW Rd\, Eagle River\, AK 99577\, 10527 VFW Rd\, Eagle River\, Alaska\, 99577\, United States
END:VEVENT
END:VCALENDAR