BEGIN:VCALENDAR
VERSION:2.0
PRODID:-//Alaska Trappers Association - ECPv6.15.20//NONSGML v1.0//EN
CALSCALE:GREGORIAN
METHOD:PUBLISH
X-WR-CALNAME:Alaska Trappers Association
X-ORIGINAL-URL:https://www.alaskatrappers.org
X-WR-CALDESC:Events for Alaska Trappers Association
REFRESH-INTERVAL;VALUE=DURATION:PT1H
X-Robots-Tag:noindex
X-PUBLISHED-TTL:PT1H
BEGIN:VTIMEZONE
TZID:America/Anchorage
BEGIN:DAYLIGHT
TZOFFSETFROM:-0900
TZOFFSETTO:-0800
TZNAME:AKDT
DTSTART:20250309T110000
END:DAYLIGHT
BEGIN:STANDARD
TZOFFSETFROM:-0800
TZOFFSETTO:-0900
TZNAME:AKST
DTSTART:20251102T100000
END:STANDARD
BEGIN:DAYLIGHT
TZOFFSETFROM:-0900
TZOFFSETTO:-0800
TZNAME:AKDT
DTSTART:20260308T110000
END:DAYLIGHT
BEGIN:STANDARD
TZOFFSETFROM:-0800
TZOFFSETTO:-0900
TZNAME:AKST
DTSTART:20261101T100000
END:STANDARD
BEGIN:DAYLIGHT
TZOFFSETFROM:-0900
TZOFFSETTO:-0800
TZNAME:AKDT
DTSTART:20270314T110000
END:DAYLIGHT
BEGIN:STANDARD
TZOFFSETFROM:-0800
TZOFFSETTO:-0900
TZNAME:AKST
DTSTART:20271107T100000
END:STANDARD
END:VTIMEZONE
BEGIN:VEVENT
DTSTART;TZID=America/Anchorage:20260203T190000
DTEND;TZID=America/Anchorage:20260203T200000
DTSTAMP:20260418T005332
CREATED:20240317T211355Z
LAST-MODIFIED:20250919T135831Z
UID:1376452-1770145200-1770148800@www.alaskatrappers.org
SUMMARY:February Fairbanks General Membership Meeting
DESCRIPTION:1st Tuesday of each month\, October through March
URL:https://www.alaskatrappers.org/event/ata-monthly-general-membership-meeting-6/
LOCATION:The Dog Mushers Hall\, 925 Farmers Loop Rd\, Fairbanks\, AK\, 99712\, United States
CATEGORIES:Monthly Meetings
ATTACH;FMTTYPE=image/jpeg:https://www.alaskatrappers.org/wp-content/uploads/2023/03/ata-logo-placeholder.jpg
END:VEVENT
BEGIN:VEVENT
DTSTART;TZID=America/Anchorage:20260217T183000
DTEND;TZID=America/Anchorage:20260217T210000
DTSTAMP:20260418T005332
CREATED:20250108T203835Z
LAST-MODIFIED:20250919T140527Z
UID:1376866-1771353000-1771362000@www.alaskatrappers.org
SUMMARY:February SCCATA General Meeting\, Eagle River
DESCRIPTION:17 feb General Meeting Eagle River VFW 630pm
URL:https://www.alaskatrappers.org/event/sccata-general-meeting-eagle-river/
LOCATION:10527 VFW Rd\, Eagle River\, AK 99577\, 10527 VFW Rd\, Eagle River\, Alaska\, 99577\, United States
CATEGORIES:Monthly Meetings
END:VEVENT
BEGIN:VEVENT
DTSTART;TZID=America/Anchorage:20260218T183000
DTEND;TZID=America/Anchorage:20260218T210000
DTSTAMP:20260418T005332
CREATED:20241003T161404Z
LAST-MODIFIED:20250919T135914Z
UID:1376784-1771439400-1771448400@www.alaskatrappers.org
SUMMARY:February Kenai Membership Meeting
DESCRIPTION:Next meeting of the Kenai chapter of ATA meeting is on February 18
URL:https://www.alaskatrappers.org/event/february-kenai-membership-meeting/
LOCATION:AK
CATEGORIES:Monthly Meetings
END:VEVENT
BEGIN:VEVENT
DTSTART;TZID=America/Anchorage:20260219T183000
DTEND;TZID=America/Anchorage:20260219T210000
DTSTAMP:20260418T005332
CREATED:20250108T203927Z
LAST-MODIFIED:20250919T140547Z
UID:1376868-1771525800-1771534800@www.alaskatrappers.org
SUMMARY:February SCCATA General Meeting\, Wasilla
DESCRIPTION:19 Feb General Meeting Wasilla VFW  630pm
URL:https://www.alaskatrappers.org/event/sccata-general-meeting-wasilla-2/
LOCATION:Matsu Valley VFW\, 301 E. Lakeview Ave\, Wasilla\, AK\, 99623\, United States
CATEGORIES:Monthly Meetings
END:VEVENT
BEGIN:VEVENT
DTSTART;TZID=America/Anchorage:20260228T110000
DTEND;TZID=America/Anchorage:20260228T160000
DTSTAMP:20260418T005332
CREATED:20250108T204216Z
LAST-MODIFIED:20250919T140103Z
UID:1376870-1772276400-1772294400@www.alaskatrappers.org
SUMMARY:Fur Rondy Fur Auction! Anchorage
DESCRIPTION:28 Feb/ 1 Mar Fur Rondy Auction Anchorage 11-4pm \nThe Fur Auction has been a staple since the beginning\, when the festival was named in honor of the economic importance of the Alaska fur trade. The fur trade was Alaska’s third most valuable industry in those days\, so incorporating the industry into the celebration was a logical idea. Presented by the Alaska Trappers Association. \n Location: 3rd Ave and E St (Carnival Lot)
URL:https://www.alaskatrappers.org/event/fur-rondy-fur-auction-anchorage/
LOCATION:Carnival Lot\,  3rd Ave and E St\, Anchorage\, AK\, United States
CATEGORIES:Fur Auction
END:VEVENT
END:VCALENDAR